BEGIN:VCALENDAR
VERSION:2.0
PRODID:-//https://www.fbcsheridan.org///NONSGML kigkonsult.se iCalcreator 2.10.15//
METHOD:PUBLISH
BEGIN:VEVENT
UID:20260421T035934UTC-9743lsS7X4@https://www.fbcsheridan.org/
DTSTAMP:20260421T035934Z
DESCRIPTION: https://www.fbcsheridan.org/events/event/983-sunday-morning-wo
 rship-service
DTSTART:20441120T190000Z
DTEND:20441120T200000Z
LOCATION:Faith Baptist Church (4101 Riosa Road\, Sheridan\, CA 95681)
SUMMARY:Sunday Morning Worship Service
URL:https://www.fbcsheridan.org/events/event/983-sunday-morning-worship-ser
 vice
END:VEVENT
BEGIN:VEVENT
UID:20260421T035934UTC-9745HZpFfU@https://www.fbcsheridan.org/
DTSTAMP:20260421T035934Z
DESCRIPTION: https://www.fbcsheridan.org/events/event/2235-sunday-school
DTSTART:20441120T180000Z
DTEND:20441120T190000Z
LOCATION:Faith Baptist Church (4101 Riosa Road\, Sheridan\, CA 95681)
SUMMARY:Sunday School
URL:https://www.fbcsheridan.org/events/event/2235-sunday-school
END:VEVENT
BEGIN:VEVENT
UID:20260421T035934UTC-9746jWaA4K@https://www.fbcsheridan.org/
DTSTAMP:20260421T035934Z
DESCRIPTION: https://www.fbcsheridan.org/events/event/3488-sunday-evening-s
 ervice
DTSTART:20441121T010000Z
DTEND:20441121T020000Z
LOCATION:Faith Baptist Church (4101 Riosa Road\, Sheridan\, CA 95681)
SUMMARY:Sunday Evening Service
URL:https://www.fbcsheridan.org/events/event/3488-sunday-evening-service
END:VEVENT
END:VCALENDAR
