BEGIN:VCALENDAR
VERSION:2.0
PRODID:-//https://www.fbcsheridan.org///NONSGML kigkonsult.se iCalcreator 2.10.15//
METHOD:PUBLISH
BEGIN:VEVENT
UID:20260424T051429UTC-9369RIKuuf@https://www.fbcsheridan.org/
DTSTAMP:20260424T051429Z
DESCRIPTION: https://www.fbcsheridan.org/events/event/1192-sunday-morning-w
 orship-service
DTSTART:20481122T190000Z
DTEND:20481122T200000Z
LOCATION:Faith Baptist Church (4101 Riosa Road\, Sheridan\, CA 95681)
SUMMARY:Sunday Morning Worship Service
URL:https://www.fbcsheridan.org/events/event/1192-sunday-morning-worship-se
 rvice
END:VEVENT
BEGIN:VEVENT
UID:20260424T051429UTC-9370NpbBuB@https://www.fbcsheridan.org/
DTSTAMP:20260424T051429Z
DESCRIPTION: https://www.fbcsheridan.org/events/event/2444-sunday-school
DTSTART:20481122T180000Z
DTEND:20481122T190000Z
LOCATION:Faith Baptist Church (4101 Riosa Road\, Sheridan\, CA 95681)
SUMMARY:Sunday School
URL:https://www.fbcsheridan.org/events/event/2444-sunday-school
END:VEVENT
BEGIN:VEVENT
UID:20260424T051429UTC-9371fX5aWV@https://www.fbcsheridan.org/
DTSTAMP:20260424T051429Z
DESCRIPTION: https://www.fbcsheridan.org/events/event/3697-sunday-evening-s
 ervice
DTSTART:20481123T010000Z
DTEND:20481123T020000Z
LOCATION:Faith Baptist Church (4101 Riosa Road\, Sheridan\, CA 95681)
SUMMARY:Sunday Evening Service
URL:https://www.fbcsheridan.org/events/event/3697-sunday-evening-service
END:VEVENT
END:VCALENDAR
