BEGIN:VCALENDAR
VERSION:2.0
PRODID:-//https://www.fbcsheridan.org///NONSGML kigkonsult.se iCalcreator 2.10.15//
METHOD:PUBLISH
BEGIN:VEVENT
UID:20260419T173605UTC-79014pbhNS@https://www.fbcsheridan.org/
DTSTAMP:20260419T173605Z
DESCRIPTION: https://www.fbcsheridan.org/events/event/879-sunday-morning-wo
 rship-service
DTSTART:20421123T190000Z
DTEND:20421123T200000Z
LOCATION:Faith Baptist Church (4101 Riosa Road\, Sheridan\, CA 95681)
SUMMARY:Sunday Morning Worship Service
URL:https://www.fbcsheridan.org/events/event/879-sunday-morning-worship-ser
 vice
END:VEVENT
BEGIN:VEVENT
UID:20260419T173605UTC-7903cUtEgz@https://www.fbcsheridan.org/
DTSTAMP:20260419T173605Z
DESCRIPTION: https://www.fbcsheridan.org/events/event/2131-sunday-school
DTSTART:20421123T180000Z
DTEND:20421123T190000Z
LOCATION:Faith Baptist Church (4101 Riosa Road\, Sheridan\, CA 95681)
SUMMARY:Sunday School
URL:https://www.fbcsheridan.org/events/event/2131-sunday-school
END:VEVENT
BEGIN:VEVENT
UID:20260419T173605UTC-7903uvF6d7@https://www.fbcsheridan.org/
DTSTAMP:20260419T173605Z
DESCRIPTION: https://www.fbcsheridan.org/events/event/3384-sunday-evening-s
 ervice
DTSTART:20421124T010000Z
DTEND:20421124T020000Z
LOCATION:Faith Baptist Church (4101 Riosa Road\, Sheridan\, CA 95681)
SUMMARY:Sunday Evening Service
URL:https://www.fbcsheridan.org/events/event/3384-sunday-evening-service
END:VEVENT
END:VCALENDAR
