BEGIN:VCALENDAR
VERSION:2.0
PRODID:-//https://www.fbcsheridan.org///NONSGML kigkonsult.se iCalcreator 2.10.15//
METHOD:PUBLISH
BEGIN:VEVENT
UID:20260423T102500UTC-3529TGs0KU@https://www.fbcsheridan.org/
DTSTAMP:20260423T102500Z
DESCRIPTION: https://www.fbcsheridan.org/events/event/1140-sunday-morning-w
 orship-service
DTSTART:20471124T190000Z
DTEND:20471124T200000Z
LOCATION:Faith Baptist Church (4101 Riosa Road\, Sheridan\, CA 95681)
SUMMARY:Sunday Morning Worship Service
URL:https://www.fbcsheridan.org/events/event/1140-sunday-morning-worship-se
 rvice
END:VEVENT
BEGIN:VEVENT
UID:20260423T102500UTC-3530ectS4c@https://www.fbcsheridan.org/
DTSTAMP:20260423T102500Z
DESCRIPTION: https://www.fbcsheridan.org/events/event/2392-sunday-school
DTSTART:20471124T180000Z
DTEND:20471124T190000Z
LOCATION:Faith Baptist Church (4101 Riosa Road\, Sheridan\, CA 95681)
SUMMARY:Sunday School
URL:https://www.fbcsheridan.org/events/event/2392-sunday-school
END:VEVENT
BEGIN:VEVENT
UID:20260423T102500UTC-3531npkpdT@https://www.fbcsheridan.org/
DTSTAMP:20260423T102500Z
DESCRIPTION: https://www.fbcsheridan.org/events/event/3645-sunday-evening-s
 ervice
DTSTART:20471125T010000Z
DTEND:20471125T020000Z
LOCATION:Faith Baptist Church (4101 Riosa Road\, Sheridan\, CA 95681)
SUMMARY:Sunday Evening Service
URL:https://www.fbcsheridan.org/events/event/3645-sunday-evening-service
END:VEVENT
END:VCALENDAR
