BEGIN:VCALENDAR
VERSION:2.0
PRODID:-//https://www.fbcsheridan.org///NONSGML kigkonsult.se iCalcreator 2.10.15//
METHOD:PUBLISH
BEGIN:VEVENT
UID:20260421T211355UTC-99200Uf8UA@https://www.fbcsheridan.org/
DTSTAMP:20260421T211355Z
DESCRIPTION: https://www.fbcsheridan.org/events/event/1036-sunday-morning-w
 orship-service
DTSTART:20451126T190000Z
DTEND:20451126T200000Z
LOCATION:Faith Baptist Church (4101 Riosa Road\, Sheridan\, CA 95681)
SUMMARY:Sunday Morning Worship Service
URL:https://www.fbcsheridan.org/events/event/1036-sunday-morning-worship-se
 rvice
END:VEVENT
BEGIN:VEVENT
UID:20260421T211355UTC-9921jO4tdr@https://www.fbcsheridan.org/
DTSTAMP:20260421T211355Z
DESCRIPTION: https://www.fbcsheridan.org/events/event/2288-sunday-school
DTSTART:20451126T180000Z
DTEND:20451126T190000Z
LOCATION:Faith Baptist Church (4101 Riosa Road\, Sheridan\, CA 95681)
SUMMARY:Sunday School
URL:https://www.fbcsheridan.org/events/event/2288-sunday-school
END:VEVENT
BEGIN:VEVENT
UID:20260421T211355UTC-9922ZS5fab@https://www.fbcsheridan.org/
DTSTAMP:20260421T211355Z
DESCRIPTION: https://www.fbcsheridan.org/events/event/3541-sunday-evening-s
 ervice
DTSTART:20451127T010000Z
DTEND:20451127T020000Z
LOCATION:Faith Baptist Church (4101 Riosa Road\, Sheridan\, CA 95681)
SUMMARY:Sunday Evening Service
URL:https://www.fbcsheridan.org/events/event/3541-sunday-evening-service
END:VEVENT
END:VCALENDAR
