BEGIN:VCALENDAR
VERSION:2.0
PRODID:-//https://www.fbcsheridan.org///NONSGML kigkonsult.se iCalcreator 2.10.15//
METHOD:PUBLISH
BEGIN:VEVENT
UID:20260421T040859UTC-5034ChzaVg@https://www.fbcsheridan.org/
DTSTAMP:20260421T040859Z
DESCRIPTION: https://www.fbcsheridan.org/events/event/984-sunday-morning-wo
 rship-service
DTSTART:20441127T190000Z
DTEND:20441127T200000Z
LOCATION:Faith Baptist Church (4101 Riosa Road\, Sheridan\, CA 95681)
SUMMARY:Sunday Morning Worship Service
URL:https://www.fbcsheridan.org/events/event/984-sunday-morning-worship-ser
 vice
END:VEVENT
BEGIN:VEVENT
UID:20260421T040859UTC-5037NFoEKA@https://www.fbcsheridan.org/
DTSTAMP:20260421T040859Z
DESCRIPTION: https://www.fbcsheridan.org/events/event/2236-sunday-school
DTSTART:20441127T180000Z
DTEND:20441127T190000Z
LOCATION:Faith Baptist Church (4101 Riosa Road\, Sheridan\, CA 95681)
SUMMARY:Sunday School
URL:https://www.fbcsheridan.org/events/event/2236-sunday-school
END:VEVENT
BEGIN:VEVENT
UID:20260421T040859UTC-5038v35HDC@https://www.fbcsheridan.org/
DTSTAMP:20260421T040859Z
DESCRIPTION: https://www.fbcsheridan.org/events/event/3489-sunday-evening-s
 ervice
DTSTART:20441128T010000Z
DTEND:20441128T020000Z
LOCATION:Faith Baptist Church (4101 Riosa Road\, Sheridan\, CA 95681)
SUMMARY:Sunday Evening Service
URL:https://www.fbcsheridan.org/events/event/3489-sunday-evening-service
END:VEVENT
END:VCALENDAR
