BEGIN:VCALENDAR
VERSION:2.0
PRODID:-//https://www.fbcsheridan.org///NONSGML kigkonsult.se iCalcreator 2.10.15//
METHOD:PUBLISH
BEGIN:VEVENT
UID:20260419T173550UTC-9009aSCx1d@https://www.fbcsheridan.org/
DTSTAMP:20260419T173550Z
DESCRIPTION: https://www.fbcsheridan.org/events/event/880-sunday-morning-wo
 rship-service
DTSTART:20421130T190000Z
DTEND:20421130T200000Z
LOCATION:Faith Baptist Church (4101 Riosa Road\, Sheridan\, CA 95681)
SUMMARY:Sunday Morning Worship Service
URL:https://www.fbcsheridan.org/events/event/880-sunday-morning-worship-ser
 vice
END:VEVENT
BEGIN:VEVENT
UID:20260419T173550UTC-9011tOiLfE@https://www.fbcsheridan.org/
DTSTAMP:20260419T173550Z
DESCRIPTION: https://www.fbcsheridan.org/events/event/2132-sunday-school
DTSTART:20421130T180000Z
DTEND:20421130T190000Z
LOCATION:Faith Baptist Church (4101 Riosa Road\, Sheridan\, CA 95681)
SUMMARY:Sunday School
URL:https://www.fbcsheridan.org/events/event/2132-sunday-school
END:VEVENT
BEGIN:VEVENT
UID:20260419T173550UTC-9012CdJ1sI@https://www.fbcsheridan.org/
DTSTAMP:20260419T173550Z
DESCRIPTION: https://www.fbcsheridan.org/events/event/3385-sunday-evening-s
 ervice
DTSTART:20421201T010000Z
DTEND:20421201T020000Z
LOCATION:Faith Baptist Church (4101 Riosa Road\, Sheridan\, CA 95681)
SUMMARY:Sunday Evening Service
URL:https://www.fbcsheridan.org/events/event/3385-sunday-evening-service
END:VEVENT
END:VCALENDAR
