BEGIN:VCALENDAR
VERSION:2.0
PRODID:-//https://www.fbcsheridan.org///NONSGML kigkonsult.se iCalcreator 2.10.15//
METHOD:PUBLISH
BEGIN:VEVENT
UID:20260423T115415UTC-6060kuG5r8@https://www.fbcsheridan.org/
DTSTAMP:20260423T115415Z
DESCRIPTION: https://www.fbcsheridan.org/events/event/1141-sunday-morning-w
 orship-service
DTSTART:20471201T190000Z
DTEND:20471201T200000Z
LOCATION:Faith Baptist Church (4101 Riosa Road\, Sheridan\, CA 95681)
SUMMARY:Sunday Morning Worship Service
URL:https://www.fbcsheridan.org/events/event/1141-sunday-morning-worship-se
 rvice
END:VEVENT
BEGIN:VEVENT
UID:20260423T115415UTC-6061KCvFwe@https://www.fbcsheridan.org/
DTSTAMP:20260423T115415Z
DESCRIPTION: https://www.fbcsheridan.org/events/event/2393-sunday-school
DTSTART:20471201T180000Z
DTEND:20471201T190000Z
LOCATION:Faith Baptist Church (4101 Riosa Road\, Sheridan\, CA 95681)
SUMMARY:Sunday School
URL:https://www.fbcsheridan.org/events/event/2393-sunday-school
END:VEVENT
BEGIN:VEVENT
UID:20260423T115415UTC-6062UUmvvU@https://www.fbcsheridan.org/
DTSTAMP:20260423T115415Z
DESCRIPTION: https://www.fbcsheridan.org/events/event/3646-sunday-evening-s
 ervice
DTSTART:20471202T010000Z
DTEND:20471202T020000Z
LOCATION:Faith Baptist Church (4101 Riosa Road\, Sheridan\, CA 95681)
SUMMARY:Sunday Evening Service
URL:https://www.fbcsheridan.org/events/event/3646-sunday-evening-service
END:VEVENT
END:VCALENDAR
