BEGIN:VCALENDAR
VERSION:2.0
PRODID:-//https://www.fbcsheridan.org///NONSGML kigkonsult.se iCalcreator 2.10.15//
METHOD:PUBLISH
BEGIN:VEVENT
UID:20260420T103212UTC-0458ADxRcZ@https://www.fbcsheridan.org/
DTSTAMP:20260420T103212Z
DESCRIPTION: https://www.fbcsheridan.org/events/event/4690-wednesday-evenin
 g-service
DTSTART:20431203T030000Z
DTEND:20431203T040000Z
LOCATION:Faith Baptist Church (4101 Riosa Road\, Sheridan\, CA 95681)
SUMMARY:Wednesday Evening Service
URL:https://www.fbcsheridan.org/events/event/4690-wednesday-evening-service
END:VEVENT
END:VCALENDAR
