BEGIN:VCALENDAR
VERSION:2.0
PRODID:-//https://www.fbcsheridan.org///NONSGML kigkonsult.se iCalcreator 2.10.15//
METHOD:PUBLISH
BEGIN:VEVENT
UID:20260421T225441UTC-20780J1M0R@https://www.fbcsheridan.org/
DTSTAMP:20260421T225441Z
DESCRIPTION: https://www.fbcsheridan.org/events/event/1037-sunday-morning-w
 orship-service
DTSTART:20451203T190000Z
DTEND:20451203T200000Z
LOCATION:Faith Baptist Church (4101 Riosa Road\, Sheridan\, CA 95681)
SUMMARY:Sunday Morning Worship Service
URL:https://www.fbcsheridan.org/events/event/1037-sunday-morning-worship-se
 rvice
END:VEVENT
BEGIN:VEVENT
UID:20260421T225441UTC-20792r4TrV@https://www.fbcsheridan.org/
DTSTAMP:20260421T225441Z
DESCRIPTION: https://www.fbcsheridan.org/events/event/2289-sunday-school
DTSTART:20451203T180000Z
DTEND:20451203T190000Z
LOCATION:Faith Baptist Church (4101 Riosa Road\, Sheridan\, CA 95681)
SUMMARY:Sunday School
URL:https://www.fbcsheridan.org/events/event/2289-sunday-school
END:VEVENT
BEGIN:VEVENT
UID:20260421T225441UTC-2080xFC2Ln@https://www.fbcsheridan.org/
DTSTAMP:20260421T225441Z
DESCRIPTION: https://www.fbcsheridan.org/events/event/3542-sunday-evening-s
 ervice
DTSTART:20451204T010000Z
DTEND:20451204T020000Z
LOCATION:Faith Baptist Church (4101 Riosa Road\, Sheridan\, CA 95681)
SUMMARY:Sunday Evening Service
URL:https://www.fbcsheridan.org/events/event/3542-sunday-evening-service
END:VEVENT
END:VCALENDAR
