BEGIN:VCALENDAR
VERSION:2.0
PRODID:-//https://www.fbcsheridan.org///NONSGML kigkonsult.se iCalcreator 2.10.15//
METHOD:PUBLISH
BEGIN:VEVENT
UID:20260424T065232UTC-8751Gfufrg@https://www.fbcsheridan.org/
DTSTAMP:20260424T065232Z
DESCRIPTION: https://www.fbcsheridan.org/events/event/1194-sunday-morning-w
 orship-service
DTSTART:20481206T190000Z
DTEND:20481206T200000Z
LOCATION:Faith Baptist Church (4101 Riosa Road\, Sheridan\, CA 95681)
SUMMARY:Sunday Morning Worship Service
URL:https://www.fbcsheridan.org/events/event/1194-sunday-morning-worship-se
 rvice
END:VEVENT
BEGIN:VEVENT
UID:20260424T065232UTC-8752paO2k0@https://www.fbcsheridan.org/
DTSTAMP:20260424T065232Z
DESCRIPTION: https://www.fbcsheridan.org/events/event/2446-sunday-school
DTSTART:20481206T180000Z
DTEND:20481206T190000Z
LOCATION:Faith Baptist Church (4101 Riosa Road\, Sheridan\, CA 95681)
SUMMARY:Sunday School
URL:https://www.fbcsheridan.org/events/event/2446-sunday-school
END:VEVENT
BEGIN:VEVENT
UID:20260424T065232UTC-8753Dk78f4@https://www.fbcsheridan.org/
DTSTAMP:20260424T065232Z
DESCRIPTION: https://www.fbcsheridan.org/events/event/3699-sunday-evening-s
 ervice
DTSTART:20481207T010000Z
DTEND:20481207T020000Z
LOCATION:Faith Baptist Church (4101 Riosa Road\, Sheridan\, CA 95681)
SUMMARY:Sunday Evening Service
URL:https://www.fbcsheridan.org/events/event/3699-sunday-evening-service
END:VEVENT
END:VCALENDAR
