BEGIN:VCALENDAR
VERSION:2.0
PRODID:-//https://www.fbcsheridan.org///NONSGML kigkonsult.se iCalcreator 2.10.15//
METHOD:PUBLISH
BEGIN:VEVENT
UID:20260423T115415UTC-31031GURwo@https://www.fbcsheridan.org/
DTSTAMP:20260423T115415Z
DESCRIPTION: https://www.fbcsheridan.org/events/event/1142-sunday-morning-w
 orship-service
DTSTART:20471208T190000Z
DTEND:20471208T200000Z
LOCATION:Faith Baptist Church (4101 Riosa Road\, Sheridan\, CA 95681)
SUMMARY:Sunday Morning Worship Service
URL:https://www.fbcsheridan.org/events/event/1142-sunday-morning-worship-se
 rvice
END:VEVENT
BEGIN:VEVENT
UID:20260423T115415UTC-3105FSuiK7@https://www.fbcsheridan.org/
DTSTAMP:20260423T115415Z
DESCRIPTION: https://www.fbcsheridan.org/events/event/2394-sunday-school
DTSTART:20471208T180000Z
DTEND:20471208T190000Z
LOCATION:Faith Baptist Church (4101 Riosa Road\, Sheridan\, CA 95681)
SUMMARY:Sunday School
URL:https://www.fbcsheridan.org/events/event/2394-sunday-school
END:VEVENT
BEGIN:VEVENT
UID:20260423T115415UTC-3106EWoG27@https://www.fbcsheridan.org/
DTSTAMP:20260423T115415Z
DESCRIPTION: https://www.fbcsheridan.org/events/event/3647-sunday-evening-s
 ervice
DTSTART:20471209T010000Z
DTEND:20471209T020000Z
LOCATION:Faith Baptist Church (4101 Riosa Road\, Sheridan\, CA 95681)
SUMMARY:Sunday Evening Service
URL:https://www.fbcsheridan.org/events/event/3647-sunday-evening-service
END:VEVENT
END:VCALENDAR
