BEGIN:VCALENDAR
VERSION:2.0
PRODID:-//https://www.fbcsheridan.org///NONSGML kigkonsult.se iCalcreator 2.10.15//
METHOD:PUBLISH
BEGIN:VEVENT
UID:20260421T225359UTC-4836vXPHmv@https://www.fbcsheridan.org/
DTSTAMP:20260421T225359Z
DESCRIPTION: https://www.fbcsheridan.org/events/event/1038-sunday-morning-w
 orship-service
DTSTART:20451210T190000Z
DTEND:20451210T200000Z
LOCATION:Faith Baptist Church (4101 Riosa Road\, Sheridan\, CA 95681)
SUMMARY:Sunday Morning Worship Service
URL:https://www.fbcsheridan.org/events/event/1038-sunday-morning-worship-se
 rvice
END:VEVENT
BEGIN:VEVENT
UID:20260421T225359UTC-4837cJbSmK@https://www.fbcsheridan.org/
DTSTAMP:20260421T225359Z
DESCRIPTION: https://www.fbcsheridan.org/events/event/2290-sunday-school
DTSTART:20451210T180000Z
DTEND:20451210T190000Z
LOCATION:Faith Baptist Church (4101 Riosa Road\, Sheridan\, CA 95681)
SUMMARY:Sunday School
URL:https://www.fbcsheridan.org/events/event/2290-sunday-school
END:VEVENT
BEGIN:VEVENT
UID:20260421T225359UTC-4838XUf4B3@https://www.fbcsheridan.org/
DTSTAMP:20260421T225359Z
DESCRIPTION: https://www.fbcsheridan.org/events/event/3543-sunday-evening-s
 ervice
DTSTART:20451211T010000Z
DTEND:20451211T020000Z
LOCATION:Faith Baptist Church (4101 Riosa Road\, Sheridan\, CA 95681)
SUMMARY:Sunday Evening Service
URL:https://www.fbcsheridan.org/events/event/3543-sunday-evening-service
END:VEVENT
END:VCALENDAR
