BEGIN:VCALENDAR
VERSION:2.0
PRODID:-//https://www.fbcsheridan.org///NONSGML kigkonsult.se iCalcreator 2.10.15//
METHOD:PUBLISH
BEGIN:VEVENT
UID:20260422T172104UTC-7843CDgUtV@https://www.fbcsheridan.org/
DTSTAMP:20260422T172104Z
DESCRIPTION: https://www.fbcsheridan.org/events/event/4848-wednesday-evenin
 g-service
DTSTART:20461213T030000Z
DTEND:20461213T040000Z
LOCATION:Faith Baptist Church (4101 Riosa Road\, Sheridan\, CA 95681)
SUMMARY:Wednesday Evening Service
URL:https://www.fbcsheridan.org/events/event/4848-wednesday-evening-service
END:VEVENT
END:VCALENDAR
