BEGIN:VCALENDAR
VERSION:2.0
PRODID:-//https://www.fbcsheridan.org///NONSGML kigkonsult.se iCalcreator 2.10.15//
METHOD:PUBLISH
BEGIN:VEVENT
UID:20260420T115007UTC-8166FVOktV@https://www.fbcsheridan.org/
DTSTAMP:20260420T115007Z
DESCRIPTION: https://www.fbcsheridan.org/events/event/934-sunday-morning-wo
 rship-service
DTSTART:20431213T190000Z
DTEND:20431213T200000Z
LOCATION:Faith Baptist Church (4101 Riosa Road\, Sheridan\, CA 95681)
SUMMARY:Sunday Morning Worship Service
URL:https://www.fbcsheridan.org/events/event/934-sunday-morning-worship-ser
 vice
END:VEVENT
BEGIN:VEVENT
UID:20260420T115007UTC-8167U5tg6I@https://www.fbcsheridan.org/
DTSTAMP:20260420T115007Z
DESCRIPTION: https://www.fbcsheridan.org/events/event/2186-sunday-school
DTSTART:20431213T180000Z
DTEND:20431213T190000Z
LOCATION:Faith Baptist Church (4101 Riosa Road\, Sheridan\, CA 95681)
SUMMARY:Sunday School
URL:https://www.fbcsheridan.org/events/event/2186-sunday-school
END:VEVENT
BEGIN:VEVENT
UID:20260420T115007UTC-8168R63HgE@https://www.fbcsheridan.org/
DTSTAMP:20260420T115007Z
DESCRIPTION: https://www.fbcsheridan.org/events/event/3439-sunday-evening-s
 ervice
DTSTART:20431214T010000Z
DTEND:20431214T020000Z
LOCATION:Faith Baptist Church (4101 Riosa Road\, Sheridan\, CA 95681)
SUMMARY:Sunday Evening Service
URL:https://www.fbcsheridan.org/events/event/3439-sunday-evening-service
END:VEVENT
END:VCALENDAR
