BEGIN:VCALENDAR
VERSION:2.0
PRODID:-//https://www.fbcsheridan.org///NONSGML kigkonsult.se iCalcreator 2.10.15//
METHOD:PUBLISH
BEGIN:VEVENT
UID:20260421T225435UTC-2549dLZZZH@https://www.fbcsheridan.org/
DTSTAMP:20260421T225435Z
DESCRIPTION: https://www.fbcsheridan.org/events/event/1039-sunday-morning-w
 orship-service
DTSTART:20451217T190000Z
DTEND:20451217T200000Z
LOCATION:Faith Baptist Church (4101 Riosa Road\, Sheridan\, CA 95681)
SUMMARY:Sunday Morning Worship Service
URL:https://www.fbcsheridan.org/events/event/1039-sunday-morning-worship-se
 rvice
END:VEVENT
BEGIN:VEVENT
UID:20260421T225435UTC-2551oxSAdv@https://www.fbcsheridan.org/
DTSTAMP:20260421T225435Z
DESCRIPTION: https://www.fbcsheridan.org/events/event/2291-sunday-school
DTSTART:20451217T180000Z
DTEND:20451217T190000Z
LOCATION:Faith Baptist Church (4101 Riosa Road\, Sheridan\, CA 95681)
SUMMARY:Sunday School
URL:https://www.fbcsheridan.org/events/event/2291-sunday-school
END:VEVENT
BEGIN:VEVENT
UID:20260421T225435UTC-2552RBIWf4@https://www.fbcsheridan.org/
DTSTAMP:20260421T225435Z
DESCRIPTION: https://www.fbcsheridan.org/events/event/3544-sunday-evening-s
 ervice
DTSTART:20451218T010000Z
DTEND:20451218T020000Z
LOCATION:Faith Baptist Church (4101 Riosa Road\, Sheridan\, CA 95681)
SUMMARY:Sunday Evening Service
URL:https://www.fbcsheridan.org/events/event/3544-sunday-evening-service
END:VEVENT
END:VCALENDAR
