BEGIN:VCALENDAR
VERSION:2.0
PRODID:-//https://www.fbcsheridan.org///NONSGML kigkonsult.se iCalcreator 2.10.15//
METHOD:PUBLISH
BEGIN:VEVENT
UID:20260421T054628UTC-62499pU6uH@https://www.fbcsheridan.org/
DTSTAMP:20260421T054628Z
DESCRIPTION: https://www.fbcsheridan.org/events/event/987-sunday-morning-wo
 rship-service
DTSTART:20441218T190000Z
DTEND:20441218T200000Z
LOCATION:Faith Baptist Church (4101 Riosa Road\, Sheridan\, CA 95681)
SUMMARY:Sunday Morning Worship Service
URL:https://www.fbcsheridan.org/events/event/987-sunday-morning-worship-ser
 vice
END:VEVENT
BEGIN:VEVENT
UID:20260421T054628UTC-6250FV2MP9@https://www.fbcsheridan.org/
DTSTAMP:20260421T054628Z
DESCRIPTION: https://www.fbcsheridan.org/events/event/2239-sunday-school
DTSTART:20441218T180000Z
DTEND:20441218T190000Z
LOCATION:Faith Baptist Church (4101 Riosa Road\, Sheridan\, CA 95681)
SUMMARY:Sunday School
URL:https://www.fbcsheridan.org/events/event/2239-sunday-school
END:VEVENT
BEGIN:VEVENT
UID:20260421T054628UTC-6251SDX0Sh@https://www.fbcsheridan.org/
DTSTAMP:20260421T054628Z
DESCRIPTION: https://www.fbcsheridan.org/events/event/3492-sunday-evening-s
 ervice
DTSTART:20441219T010000Z
DTEND:20441219T020000Z
LOCATION:Faith Baptist Church (4101 Riosa Road\, Sheridan\, CA 95681)
SUMMARY:Sunday Evening Service
URL:https://www.fbcsheridan.org/events/event/3492-sunday-evening-service
END:VEVENT
END:VCALENDAR
