BEGIN:VCALENDAR
VERSION:2.0
PRODID:-//https://www.fbcsheridan.org///NONSGML kigkonsult.se iCalcreator 2.10.15//
METHOD:PUBLISH
BEGIN:VEVENT
UID:20260420T114840UTC-11914Uu1dI@https://www.fbcsheridan.org/
DTSTAMP:20260420T114840Z
DESCRIPTION: https://www.fbcsheridan.org/events/event/935-sunday-morning-wo
 rship-service
DTSTART:20431220T190000Z
DTEND:20431220T200000Z
LOCATION:Faith Baptist Church (4101 Riosa Road\, Sheridan\, CA 95681)
SUMMARY:Sunday Morning Worship Service
URL:https://www.fbcsheridan.org/events/event/935-sunday-morning-worship-ser
 vice
END:VEVENT
BEGIN:VEVENT
UID:20260420T114840UTC-1192meJPU2@https://www.fbcsheridan.org/
DTSTAMP:20260420T114840Z
DESCRIPTION: https://www.fbcsheridan.org/events/event/2187-sunday-school
DTSTART:20431220T180000Z
DTEND:20431220T190000Z
LOCATION:Faith Baptist Church (4101 Riosa Road\, Sheridan\, CA 95681)
SUMMARY:Sunday School
URL:https://www.fbcsheridan.org/events/event/2187-sunday-school
END:VEVENT
BEGIN:VEVENT
UID:20260420T114840UTC-1193MURB6L@https://www.fbcsheridan.org/
DTSTAMP:20260420T114840Z
DESCRIPTION: https://www.fbcsheridan.org/events/event/3440-sunday-evening-s
 ervice
DTSTART:20431221T010000Z
DTEND:20431221T020000Z
LOCATION:Faith Baptist Church (4101 Riosa Road\, Sheridan\, CA 95681)
SUMMARY:Sunday Evening Service
URL:https://www.fbcsheridan.org/events/event/3440-sunday-evening-service
END:VEVENT
END:VCALENDAR
