BEGIN:VCALENDAR
VERSION:2.0
PRODID:-//https://www.fbcsheridan.org///NONSGML kigkonsult.se iCalcreator 2.10.15//
METHOD:PUBLISH
BEGIN:VEVENT
UID:20260421T225400UTC-19095toolp@https://www.fbcsheridan.org/
DTSTAMP:20260421T225400Z
DESCRIPTION: https://www.fbcsheridan.org/events/event/4797-wednesday-evenin
 g-service
DTSTART:20451221T030000Z
DTEND:20451221T040000Z
LOCATION:Faith Baptist Church (4101 Riosa Road\, Sheridan\, CA 95681)
SUMMARY:Wednesday Evening Service
URL:https://www.fbcsheridan.org/events/event/4797-wednesday-evening-service
END:VEVENT
END:VCALENDAR
