BEGIN:VCALENDAR
VERSION:2.0
PRODID:-//https://www.fbcsheridan.org///NONSGML kigkonsult.se iCalcreator 2.10.15//
METHOD:PUBLISH
BEGIN:VEVENT
UID:20260423T115442UTC-1615sf1hnM@https://www.fbcsheridan.org/
DTSTAMP:20260423T115442Z
DESCRIPTION: https://www.fbcsheridan.org/events/event/1144-sunday-morning-w
 orship-service
DTSTART:20471222T190000Z
DTEND:20471222T200000Z
LOCATION:Faith Baptist Church (4101 Riosa Road\, Sheridan\, CA 95681)
SUMMARY:Sunday Morning Worship Service
URL:https://www.fbcsheridan.org/events/event/1144-sunday-morning-worship-se
 rvice
END:VEVENT
BEGIN:VEVENT
UID:20260423T115442UTC-1616d8uNiP@https://www.fbcsheridan.org/
DTSTAMP:20260423T115442Z
DESCRIPTION: https://www.fbcsheridan.org/events/event/2396-sunday-school
DTSTART:20471222T180000Z
DTEND:20471222T190000Z
LOCATION:Faith Baptist Church (4101 Riosa Road\, Sheridan\, CA 95681)
SUMMARY:Sunday School
URL:https://www.fbcsheridan.org/events/event/2396-sunday-school
END:VEVENT
BEGIN:VEVENT
UID:20260423T115442UTC-1617Ev9EoE@https://www.fbcsheridan.org/
DTSTAMP:20260423T115442Z
DESCRIPTION: https://www.fbcsheridan.org/events/event/3649-sunday-evening-s
 ervice
DTSTART:20471223T010000Z
DTEND:20471223T020000Z
LOCATION:Faith Baptist Church (4101 Riosa Road\, Sheridan\, CA 95681)
SUMMARY:Sunday Evening Service
URL:https://www.fbcsheridan.org/events/event/3649-sunday-evening-service
END:VEVENT
END:VCALENDAR
