BEGIN:VCALENDAR
VERSION:2.0
PRODID:-//https://www.fbcsheridan.org///NONSGML kigkonsult.se iCalcreator 2.10.15//
METHOD:PUBLISH
BEGIN:VEVENT
UID:20260421T054629UTC-1307ew8AE2@https://www.fbcsheridan.org/
DTSTAMP:20260421T054629Z
DESCRIPTION: https://www.fbcsheridan.org/events/event/988-sunday-morning-wo
 rship-service
DTSTART:20441225T190000Z
DTEND:20441225T200000Z
LOCATION:Faith Baptist Church (4101 Riosa Road\, Sheridan\, CA 95681)
SUMMARY:Sunday Morning Worship Service
URL:https://www.fbcsheridan.org/events/event/988-sunday-morning-worship-ser
 vice
END:VEVENT
BEGIN:VEVENT
UID:20260421T054629UTC-1308BvVsVw@https://www.fbcsheridan.org/
DTSTAMP:20260421T054629Z
DESCRIPTION: https://www.fbcsheridan.org/events/event/2240-sunday-school
DTSTART:20441225T180000Z
DTEND:20441225T190000Z
LOCATION:Faith Baptist Church (4101 Riosa Road\, Sheridan\, CA 95681)
SUMMARY:Sunday School
URL:https://www.fbcsheridan.org/events/event/2240-sunday-school
END:VEVENT
BEGIN:VEVENT
UID:20260421T054629UTC-1309RumcM9@https://www.fbcsheridan.org/
DTSTAMP:20260421T054629Z
DESCRIPTION: https://www.fbcsheridan.org/events/event/3493-sunday-evening-s
 ervice
DTSTART:20441226T010000Z
DTEND:20441226T020000Z
LOCATION:Faith Baptist Church (4101 Riosa Road\, Sheridan\, CA 95681)
SUMMARY:Sunday Evening Service
URL:https://www.fbcsheridan.org/events/event/3493-sunday-evening-service
END:VEVENT
END:VCALENDAR
