BEGIN:VCALENDAR
VERSION:2.0
PRODID:-//https://www.fbcsheridan.org///NONSGML kigkonsult.se iCalcreator 2.10.15//
METHOD:PUBLISH
BEGIN:VEVENT
UID:20260419T185753UTC-6408KcZCma@https://www.fbcsheridan.org/
DTSTAMP:20260419T185753Z
DESCRIPTION: https://www.fbcsheridan.org/events/event/884-sunday-morning-wo
 rship-service
DTSTART:20421228T190000Z
DTEND:20421228T200000Z
LOCATION:Faith Baptist Church (4101 Riosa Road\, Sheridan\, CA 95681)
SUMMARY:Sunday Morning Worship Service
URL:https://www.fbcsheridan.org/events/event/884-sunday-morning-worship-ser
 vice
END:VEVENT
BEGIN:VEVENT
UID:20260419T185753UTC-6409dusizI@https://www.fbcsheridan.org/
DTSTAMP:20260419T185753Z
DESCRIPTION: https://www.fbcsheridan.org/events/event/2136-sunday-school
DTSTART:20421228T180000Z
DTEND:20421228T190000Z
LOCATION:Faith Baptist Church (4101 Riosa Road\, Sheridan\, CA 95681)
SUMMARY:Sunday School
URL:https://www.fbcsheridan.org/events/event/2136-sunday-school
END:VEVENT
BEGIN:VEVENT
UID:20260419T185753UTC-6410Ns8EU0@https://www.fbcsheridan.org/
DTSTAMP:20260419T185753Z
DESCRIPTION: https://www.fbcsheridan.org/events/event/3389-sunday-evening-s
 ervice
DTSTART:20421229T010000Z
DTEND:20421229T020000Z
LOCATION:Faith Baptist Church (4101 Riosa Road\, Sheridan\, CA 95681)
SUMMARY:Sunday Evening Service
URL:https://www.fbcsheridan.org/events/event/3389-sunday-evening-service
END:VEVENT
END:VCALENDAR
