BEGIN:VCALENDAR
VERSION:2.0
PRODID:-//https://www.fbcsheridan.org///NONSGML kigkonsult.se iCalcreator 2.10.15//
METHOD:PUBLISH
BEGIN:VEVENT
UID:20260423T115415UTC-4717HMT8Ii@https://www.fbcsheridan.org/
DTSTAMP:20260423T115415Z
DESCRIPTION: https://www.fbcsheridan.org/events/event/1145-sunday-morning-w
 orship-service
DTSTART:20471229T190000Z
DTEND:20471229T200000Z
LOCATION:Faith Baptist Church (4101 Riosa Road\, Sheridan\, CA 95681)
SUMMARY:Sunday Morning Worship Service
URL:https://www.fbcsheridan.org/events/event/1145-sunday-morning-worship-se
 rvice
END:VEVENT
BEGIN:VEVENT
UID:20260423T115415UTC-4718U52S1W@https://www.fbcsheridan.org/
DTSTAMP:20260423T115415Z
DESCRIPTION: https://www.fbcsheridan.org/events/event/2397-sunday-school
DTSTART:20471229T180000Z
DTEND:20471229T190000Z
LOCATION:Faith Baptist Church (4101 Riosa Road\, Sheridan\, CA 95681)
SUMMARY:Sunday School
URL:https://www.fbcsheridan.org/events/event/2397-sunday-school
END:VEVENT
BEGIN:VEVENT
UID:20260423T115415UTC-47192WcAf2@https://www.fbcsheridan.org/
DTSTAMP:20260423T115415Z
DESCRIPTION: https://www.fbcsheridan.org/events/event/3650-sunday-evening-s
 ervice
DTSTART:20471230T010000Z
DTEND:20471230T020000Z
LOCATION:Faith Baptist Church (4101 Riosa Road\, Sheridan\, CA 95681)
SUMMARY:Sunday Evening Service
URL:https://www.fbcsheridan.org/events/event/3650-sunday-evening-service
END:VEVENT
END:VCALENDAR
