BEGIN:VCALENDAR
VERSION:2.0
PRODID:-//https://www.fbcsheridan.org///NONSGML kigkonsult.se iCalcreator 2.10.15//
METHOD:PUBLISH
BEGIN:VEVENT
UID:20260421T225435UTC-6330NW1sVp@https://www.fbcsheridan.org/
DTSTAMP:20260421T225435Z
DESCRIPTION: https://www.fbcsheridan.org/events/event/1041-sunday-morning-w
 orship-service
DTSTART:20451231T190000Z
DTEND:20451231T200000Z
LOCATION:Faith Baptist Church (4101 Riosa Road\, Sheridan\, CA 95681)
SUMMARY:Sunday Morning Worship Service
URL:https://www.fbcsheridan.org/events/event/1041-sunday-morning-worship-se
 rvice
END:VEVENT
BEGIN:VEVENT
UID:20260421T225435UTC-6331j8N9ZE@https://www.fbcsheridan.org/
DTSTAMP:20260421T225435Z
DESCRIPTION: https://www.fbcsheridan.org/events/event/2293-sunday-school
DTSTART:20451231T180000Z
DTEND:20451231T190000Z
LOCATION:Faith Baptist Church (4101 Riosa Road\, Sheridan\, CA 95681)
SUMMARY:Sunday School
URL:https://www.fbcsheridan.org/events/event/2293-sunday-school
END:VEVENT
BEGIN:VEVENT
UID:20260421T225435UTC-6332xPNBSF@https://www.fbcsheridan.org/
DTSTAMP:20260421T225435Z
DESCRIPTION: https://www.fbcsheridan.org/events/event/3546-sunday-evening-s
 ervice
DTSTART:20460101T010000Z
DTEND:20460101T020000Z
LOCATION:Faith Baptist Church (4101 Riosa Road\, Sheridan\, CA 95681)
SUMMARY:Sunday Evening Service
URL:https://www.fbcsheridan.org/events/event/3546-sunday-evening-service
END:VEVENT
END:VCALENDAR
